BEGIN:VCALENDAR
VERSION:2.0
PRODID:-//ChamberMaster//Event Calendar 2.0//EN
METHOD:PUBLISH
X-PUBLISHED-TTL:P3D
REFRESH-INTERVAL:P3D
CALSCALE:GREGORIAN
BEGIN:VEVENT
DTSTART:20240809T173000Z
DTEND:20240809T190000Z
X-MICROSOFT-CDO-ALLDAYEVENT:FALSE
SUMMARY:Castle Rock Chamber Foundation BOD Meeting
DESCRIPTION:Castle Rock Chamber Foundation Board of Directors Meeting\n\nBoard members and invited guests only
X-ALT-DESC;FMTTYPE=text/html:Castle Rock Chamber Foundation Board of Directors Meeting<br />\nBoard members and invited guests only
LOCATION:Castle Rock Chamber of Commerce 420 Jerry St. Castle Rock\, CO 80104
UID:e.2498.6041
SEQUENCE:3
DTSTAMP:20260424T181317Z
URL:https://business.castlerock.org/events/details/castle-rock-chamber-foundation-bod-meeting-6041
END:VEVENT

END:VCALENDAR
