BEGIN:VCALENDAR
VERSION:2.0
PRODID:-//ChamberMaster//Event Calendar 2.0//EN
METHOD:PUBLISH
X-PUBLISHED-TTL:P3D
REFRESH-INTERVAL:P3D
CALSCALE:GREGORIAN
BEGIN:VEVENT
DTSTART:20250628T230000Z
DTEND:20250629T020000Z
X-MICROSOFT-CDO-ALLDAYEVENT:FALSE
SUMMARY:Castle Rock Chamber Sip & Savor
DESCRIPTION:Presented by the Castle Rock Chamber of Commerce\, the Castle Rock Sip & Savor\, an outdoor wine and bourbon tasting event\, will offer more than a dozen wineries and distilleries\, and a variety of food choices. This event draws wine and bourbon aficionados for its tastings\, fabulous food vendors\, and an amazing local band to dance into the night. The Chamber's Sip & Savor event is where wine and bourbon lovers will have an opportunity to participate in a Grand Tasting in one convenient location Phillip S. Miller Amphitheater.\n\n\n\n\n\nVisit Castle Rock Sip and Savor - Castle Rock Chamber for a list of participating wineries\, distilleries\, and vendors.  \n\n\n\nPlease Note:   This event is intended for adults 21 and over only. No Children & No Pets will be allowed.
X-ALT-DESC;FMTTYPE=text/html:<span style="color:teal\;"><span style="font-family:tahoma\,sans-serif\;"><span style="font-size:14.0pt\;">Presented by the Castle Rock Chamber of Commerce\, the Castle Rock Sip &amp\; Savor\, an outdoor wine and bourbon tasting event\, will offer more than a dozen wineries and distilleries\, and a variety of food choices. This event draws wine and bourbon aficionados for its tastings\, fabulous food vendors\, and an amazing local band to dance into the night. The Chamber&rsquo\;s Sip &amp\; Savor event is where wine and bourbon lovers will have an opportunity to participate in a Grand Tasting in one convenient location&nbsp\;<strong>Phillip S. Miller Amphitheater.</strong></span></span></span><br />\n<br />\n<br />\n<span style="font-size:14px\;"><span style="color:#333333\;">Visit</span> <strong><u><span style="font-family:arial\;"><a href="https://castlerock.org/castle-rock-sip-and-savor/">Castle Rock Sip and Savor - Castle Rock Chamber</a></span></u></strong> for<span style="color:#333333\;">&nbsp\;a list of participating wineries\, distilleries\, and vendors.</span>&nbsp\;&nbsp\;</span><br />\n<br />\n<span style="font-size:14px\;"><span style="color:#333333\;"><span style="font-family:arial\,sans-serif\;">Please Note:&nbsp\; &nbsp\;This event is intended for adults 21 and over only. No Children &amp\; No Pets will be allowed.</span></span>&nbsp\;</span>
LOCATION:Phillip S. Miller Amphitheater 1375 Plum Creek Pkwy. Castle Rock\, CO 80109
UID:e.2498.6747
SEQUENCE:3
DTSTAMP:20260421T085826Z
URL:https://business.castlerock.org/events/details/castle-rock-chamber-sip-savor-6747
END:VEVENT

END:VCALENDAR
