BEGIN:VCALENDAR
VERSION:2.0
PRODID:-//ChamberMaster//Event Calendar 2.0//EN
METHOD:PUBLISH
X-PUBLISHED-TTL:P3D
REFRESH-INTERVAL:P3D
CALSCALE:GREGORIAN
BEGIN:VEVENT
DTSTART:20250114T190000Z
DTEND:20250114T200000Z
X-MICROSOFT-CDO-ALLDAYEVENT:FALSE
SUMMARY:Ribbon Cutting - Coast2Coast Meal Prep
DESCRIPTION:Ribbon Cutting Ceremony for Coast2Coast Meal Prep
X-ALT-DESC;FMTTYPE=text/html:Ribbon Cutting Ceremony for Coast2Coast Meal Prep
LOCATION:1605 Park St. Castle Rock\, CO 80109
UID:e.2498.6720
SEQUENCE:3
DTSTAMP:20260419T230317Z
URL:https://business.castlerock.org/events/details/ribbon-cutting-coast2coast-meal-prep-6720
END:VEVENT

END:VCALENDAR
