BEGIN:VCALENDAR
VERSION:2.0
PRODID:-//ChamberMaster//Event Calendar 2.0//EN
METHOD:PUBLISH
X-PUBLISHED-TTL:P3D
REFRESH-INTERVAL:P3D
CALSCALE:GREGORIAN
BEGIN:VEVENT
DTSTART:20190720T150000Z
DTEND:20190721T030000Z
X-MICROSOFT-CDO-ALLDAYEVENT:FALSE
SUMMARY:Winery Application-16th Castle Rock WineFest
DESCRIPTION:If you are not a Winery\, this application is NOT for you!  Please see the Arts/Crafts/Retail vendor page or the Food Truck page\, as applicable.\n\n\n\nPLEASE READ PRIOR TO REGISTERING:  IF YOUR PRODUCTS/SERVICES DO NOT MEET THE CRITERIA OF COMPLIMENTING A WINE FESTIVAL\, YOU WILL NOT BE REFUNDED.  IF YOU ARE NOT SURE IF YOUR CATEGORY WOULD APPLY\, PLEASE CALL US FIRST.\n\n\n\nThe 2019 Castle Rock WineFest\, presented by the Castle Rock Chamber of Commerce\, will feature wineries\, artisans/lifestyle vendors\, entertainment and delicious cuisine. In 2018\, the Castle Rock WineFest was wildly successful and welcome more than 2500 attendees.  The location for the festival will be Butterfield Crossing Park in The Meadows at Historic Castle Rock\, located at 3952 Butterfield Crossing Dr. Castle Rock\, Colorado 80109.  \n\n\n\nTo apply and be accepted\, you must produce your wine in Colorado.\n\n\n\nAll applications are due by July 1\, 2019.  You will receive a packet with final instructions that will include set up\, tear down\, and festival information at the beginning of July.\n\n\n\nCastle Rock Chamber of Commerce\, 420 Jerry St.\, Castle Rock\, CO. 80104 (303-688-4597)
X-ALT-DESC;FMTTYPE=text/html:<span style="font-family:arial\;"><span style="color: rgb(82\, 82\, 82)\;">If you are not a Winery\, this application is NOT for you!&nbsp\; Please see the Arts/Crafts/Retail vendor page or the Food Truck page\, as applicable.</span></span><br />\n<br />\n<strong><span style="color: rgb(255\, 0\, 0)\;">PLEASE READ PRIOR TO REGISTERING:&nbsp\; IF YOUR PRODUCTS/SERVICES DO NOT MEET THE CRITERIA OF COMPLIMENTING A WINE FESTIVAL\, YOU WILL NOT BE REFUNDED.&nbsp\; IF YOU ARE NOT SURE IF YOUR CATEGORY WOULD APPLY\, PLEASE CALL US FIRST.</span></strong><br />\n<br />\n<span style="font-family:arial\;"><span style="color: rgb(82\, 82\, 82)\;">The 2019 Castle Rock WineFest\, presented by the Castle Rock Chamber of Commerce\, will feature wineries\, artisans/lifestyle vendors\, entertainment and delicious cuisine. In 2018\, the Castle Rock WineFest was wildly successful and welcome more than 2500 attendees.&nbsp\; The location for the festival will be Butterfield Crossing Park in The Meadows at Historic Castle Rock\, located at&nbsp\;</span>3952 Butterfield Crossing Dr.&nbsp\;Castle Rock\, Colorado 80109<span style="color: rgb(82\, 82\, 82)\;">.&nbsp\;&nbsp\;</span></span><br />\n<br />\nTo apply and be accepted\, you must produce your wine in Colorado.<br />\n<br />\n<span style="font-family:arial\;"><span style="color: rgb(82\, 82\, 82)\;">All applications are due by July 1\, 2019.&nbsp\; You will receive a packet with final instructions that will include set up\, tear down\, and festival information at the beginning of July.</span></span><br />\n<br style="box-sizing: content-box\; bottom: auto\; clear: none\; color: rgb(82\, 82\, 82)\; content: normal\; direction: inherit\; display: inline\; empty-cells: show\; float: none\; font-variant-numeric: inherit\; font-variant-east-asian: inherit\; font-stretch: inherit\; font-size: 14px\; font-family: Arial\, Helvetica\, sans-serif\; left: auto\; line-height: inherit\; margin: 0px\; max-height: none\; max-width: none\; min-height: initial\; min-width: initial\; opacity: 1\; outline-offset: 0px\; overflow: visible\; padding: 0px\; position: static\; resize: none\; right: auto\; table-layout: auto\; text-overflow: clip\; top: auto\; vertical-align: baseline\; visibility: inherit\; word-break: inherit\; word-wrap: inherit\; z-index: auto\; background-image: none\; background-position: initial\; background-size: initial\; background-repeat: initial\; background-attachment: initial\; background-origin: initial\; background-clip: initial\; border: none\; border-collapse: separate\; border-radius: 0px\; height: auto\; width: auto\;" />\n<span style="font-family:arial\;"><span style="color: rgb(82\, 82\, 82)\;">Castle Rock Chamber of Commerce\, 420 Jerry St.\, Castle Rock\, CO. 80104 (303-688-4597)</span></span>
LOCATION:Butterfield Crossing 3952 Butterfield Crossing Dr. Castle Rock\, Colorado.
UID:e.2498.4368
SEQUENCE:3
DTSTAMP:20260422T213756Z
URL:https://business.castlerock.org/events/details/winery-application-16th-castle-rock-winefest-4368
END:VEVENT

END:VCALENDAR
